BEGIN:VCALENDAR
VERSION:2.0
PRODID:-//Fellowship Place | New Haven CT - ECPv6.11.1//NONSGML v1.0//EN
CALSCALE:GREGORIAN
METHOD:PUBLISH
X-ORIGINAL-URL:https://fellowshipplace.org
X-WR-CALDESC:Events for Fellowship Place | New Haven CT
REFRESH-INTERVAL;VALUE=DURATION:PT1H
X-Robots-Tag:noindex
X-PUBLISHED-TTL:PT1H
BEGIN:VTIMEZONE
TZID:America/New_York
BEGIN:DAYLIGHT
TZOFFSETFROM:-0500
TZOFFSETTO:-0400
TZNAME:EDT
DTSTART:20240310T070000
END:DAYLIGHT
BEGIN:STANDARD
TZOFFSETFROM:-0400
TZOFFSETTO:-0500
TZNAME:EST
DTSTART:20241103T060000
END:STANDARD
END:VTIMEZONE
BEGIN:VEVENT
DTSTART;TZID=America/New_York:20241125T080000
DTEND;TZID=America/New_York:20241201T170000
DTSTAMP:20260421T041834
CREATED:20241115T192050Z
LAST-MODIFIED:20241125T134617Z
UID:10359-1732521600-1733072400@fellowshipplace.org
SUMMARY:Weekly menu November 25th -December 1st
DESCRIPTION: Fellowship Place Weekly Menu \nMeal Reservation Phone Number: 203-401-3067 \n\n\n\nDay\nBreakfast \n  \nMon.-Fri. 9:00 – 9:30 AM\nLunch \n  \nMon.-Fri. 12:00 -12:30 PM\nDinner \n  \nMon.-Fri.:4:00-4:30\n\n\nMonday\n11/25/2024\n  \nContinental breakfast\n  \nSandwich of the day with chips\n  \nPasta with marinara sauce and cheese \n \n\n\nTuesday \n11/26/2024\n  \nContinental breakfast\n  \nANNUAL THANKSGIVING LUNCHEON                         (HOLIDAY MEAL)\n  \nNO DINNER\n\n\nWednesday \n11/27/2024\n  \nContinental breakfast \n \nRaviolis with marinara garlic bread and vegetable of the day\n  \nChicken fried rice\n\n\nThursday \n11/28/2024\n  \n \nHoliday Hours 10am-1:30pm \nLUNCH\n  \nNO DINNER\n\n\nFriday \n11/29/2024\n  \n  \n \nHoliday Hours 10am-1:30pm \nLUNCH\n  \nNO DINNER\n\n\nSaturday\n11/30/2024\n  \n \n  \nLUNCH\n  \n  \nNO DINNER\n\n\nSunday \n12/01/2024\n  \n \n  \nLUNCH\n  \nNO DINNER
URL:https://fellowshipplace.org/event/weekly-menu-november-25th-december-1st/
LOCATION:Clubhouse
CATEGORIES:Weekly Menu
END:VEVENT
BEGIN:VEVENT
DTSTART;TZID=America/New_York:20241202T080000
DTEND;TZID=America/New_York:20241208T170000
DTSTAMP:20260421T041834
CREATED:20241203T171147Z
LAST-MODIFIED:20241203T171147Z
UID:10384-1733126400-1733677200@fellowshipplace.org
SUMMARY:Weekly Menu December 2nd - December 8th
DESCRIPTION: Fellowship Place Weekly Menu \nCurrent weekly menu December 2nd to December 8th 2024 \nMeal Reservation Phone Number: 203-401-3067 \n\n\n\nDay\nBreakfast \n  \nMon.-Fri. 9:00 – 9:30 AM\nLunch \n  \nMon.-Fri. 12:00 -12:30 PM\nDinner \n  \nMon.-Fri.:4:00-4:30\n\n\nMonday\n12/02/2024\n  \nContinental breakfast\nChicken nuggets \nFrench fries\n  \nPizza with garden salad \n \n\n\nTuesday \n12/03/2024\n  \nContinental breakfast\nPasta with marinara sauce and cheese mixed vegetables and garlic bread\n  \nSandwich of the day with chips\n\n\nWednesday \n12/04/2024\n  \nContinental breakfast \n \nBaked chicken \nMashed  potatoes and vegetable of the day\n  \nHamburger helper\n\n\nThursday \n12/05/2024\n  \nContinental breakfast\n  \nVegetable beef stew over white rice\n  \nPizza with garden salad\n\n\nFriday \n12/06/2024\n  \nContinental breakfast \n \nBaked fish \nRice and vegetables of the\n  \nSandwich of the day with chips\n\n\nSaturday\n12/07/2024\n  \nContinental breakfast\n  \nLUNCH\n \n\n\nSunday \n12/08/2024\n  \nContinental breakfast\n  \nLUNCH\n 
URL:https://fellowshipplace.org/event/weekly-menu-december-2nd-december-8th/
LOCATION:Clubhouse
CATEGORIES:Weekly Menu
END:VEVENT
BEGIN:VEVENT
DTSTART;TZID=America/New_York:20241202T093000
DTEND;TZID=America/New_York:20241202T103000
DTSTAMP:20260421T041834
CREATED:20241203T175040Z
LAST-MODIFIED:20241203T175040Z
UID:10387-1733131800-1733135400@fellowshipplace.org
SUMMARY:Holiday Tree Decorating
DESCRIPTION:Monday\, December 2nd from 9:30-11am in the Clubhouse \nJoin in on our annual Holiday Tree Decorating! Not everyone gets the opportunity to decorate a tree this time of year\, so please be part of this experience and make new holiday memories with your Fellowship family!
URL:https://fellowshipplace.org/event/holiday-tree-decorating-2/
LOCATION:Clubhouse
CATEGORIES:Special Events
END:VEVENT
BEGIN:VEVENT
DTSTART;TZID=America/New_York:20241206T100000
DTEND;TZID=America/New_York:20241206T120000
DTSTAMP:20260421T041834
CREATED:20241203T175833Z
LAST-MODIFIED:20241203T175833Z
UID:10390-1733479200-1733486400@fellowshipplace.org
SUMMARY:Holiday Embroidery
DESCRIPTION:Friday\, December 6th from 10am-12pm in the clubhouse \nJoin Gabe for special holiday embroidery session in the clubhouse! Make a gift for yourself or a loved one!
URL:https://fellowshipplace.org/event/holiday-embroidery/
LOCATION:Clubhouse
CATEGORIES:Special Events
END:VEVENT
BEGIN:VEVENT
DTSTART;TZID=America/New_York:20241209T080000
DTEND;TZID=America/New_York:20241215T170000
DTSTAMP:20260421T041834
CREATED:20241212T151651Z
LAST-MODIFIED:20241212T151651Z
UID:10415-1733731200-1734282000@fellowshipplace.org
SUMMARY:Weekly Menu December 9th- December 15th
DESCRIPTION: Fellowship Place Weekly Menu \nCurrent weekly menu December 9th – December 15th 2024 \nMeal Reservation Phone Number: 203-401-3067 \n\n\n\nDay\nBreakfast \n  \nMon.-Fri. 9:00 – 9:30 AM\nLunch \n  \nMon.-Fri. 12:00 -12:30 PM\nDinner \n  \nMon.-Fri.:4:00-4:30\n\n\nMonday\n12/09/2024\n  \nContinental breakfast\nCheese raviolis with marinara\, garlic bread and vegetable o the day\n  \nChicken fried rice \n \n\n\nTuesday \n12/10/2024\n  \nContinental breakfast\nBaked chicken \nRice                          vegetable of the day\n  \nPasta marinara with cheese\n\n\nWednesday \n12/11/2024\n  \nContinental breakfast \n \nMeatloaf                         mashed potatoes and mixed vegetables \n \n  \nSandwich of the day with chips\n\n\nThursday \n12/12/2024\n  \nContinental breakfast\nBreaded pork chops with  pasta and vegetables \n \n  \nPizza with garden salad\n\n\nFriday \n12/13/202401/+60\n  \nContinental breakfast \n \nBaked fish \nRice and  vegetables of the day\n  \nSandwich of the day with chips\n\n\nSaturday\n12/14/2024\n  \nContinental breakfast\n  \nLUNCH\n  \n  \nNO DINNER\n\n\nSunday \n12/15/2024\n  \nContinental breakfast\n  \nLUNCH\n  \nNO DINNER
URL:https://fellowshipplace.org/event/weekly-menu-december-9th-december-15th/
LOCATION:Clubhouse
CATEGORIES:Weekly Menu
END:VEVENT
BEGIN:VEVENT
DTSTART;TZID=America/New_York:20241212T140000
DTEND;TZID=America/New_York:20241212T150000
DTSTAMP:20260421T041834
CREATED:20241203T175524Z
LAST-MODIFIED:20241212T151600Z
UID:10392-1734012000-1734015600@fellowshipplace.org
SUMMARY:Holiday Ornament Creating
DESCRIPTION:Thursday\, December 12th @ 2pm in the Art Studio \nJoin Marisabel and create some ornaments during this holiday season! Homemade ornaments a very meaningful and could be a great gift!
URL:https://fellowshipplace.org/event/holiday-ornament-creating/
LOCATION:Clubhouse
CATEGORIES:This Week's Cancellations
END:VEVENT
BEGIN:VEVENT
DTSTART;TZID=America/New_York:20241216T080000
DTEND;TZID=America/New_York:20241222T170000
DTSTAMP:20260421T041834
CREATED:20241216T175642Z
LAST-MODIFIED:20241216T175642Z
UID:10429-1734336000-1734886800@fellowshipplace.org
SUMMARY:Weekly Menu December 16th- December 22nd
DESCRIPTION: Fellowship Place Weekly Menu \nCurrent weekly menu December 16th -December 22nd  2024 \nMeal Reservation Phone Number: 203-401-3067 \n\n\n\nDay\nBreakfast \n  \nMon.-Fri. 9:00 – 9:30 AM\nLunch \n  \nMon.-Fri. 12:00 -12:30 PM\nDinner \n  \nMon.-Fri.:4:00-4:30\n\n\nMonday\n12/16/2024\n  \nContinental breakfast\nStuffed shells with marinara green peas and  garlic bread\n  \nJamaican beef patties with mixed vegetables \n \n\n\nTuesday \n12/17/2024\n  \nContinental breakfast\nChicken cutlets with sweet\, mashed potatoes and veggies\n  \nSandwich of the day with chips\n\n\nWednesday \n12/18/2024\n  \nContinental breakfast \n \nSoup and sandwich of the day with chips\n  \nNO DINNER- program closing at 12:30pm\n\n\nThursday \n12/19/2024\n  \nContinental breakfast\n  \nCHICKEN FRIED RICE WITH DUCK SAUCE \n \n  \nPizza with garden salad\n\n\nFriday \n12/20/2024\n  \nContinental breakfast \n \n  \nCHRISTMAS LUNCHEON\n  \nNO  DINNER\n\n\nSaturday\n12/21/2024\n  \nContinental breakfast\n  \nLUNCH\n \n\n\nSunday \n12/22/2024\n  \nContinental breakfast\n  \nLUNCH\n 
URL:https://fellowshipplace.org/event/weekly-menu-december-16th-december-22nd/
LOCATION:Clubhouse
CATEGORIES:Weekly Menu
END:VEVENT
BEGIN:VEVENT
DTSTART;TZID=America/New_York:20241216T130000
DTEND;TZID=America/New_York:20241216T150000
DTSTAMP:20260421T041834
CREATED:20241203T175629Z
LAST-MODIFIED:20241203T175629Z
UID:10395-1734354000-1734361200@fellowshipplace.org
SUMMARY:Holiday Cards for Ronald McDonald House
DESCRIPTION:Monday\, December 16th from 1-3pm in the Clubhouse \nCome volunteer your time to make holiday cards for children and their families at the Ronald McDonald House in New Haven. The Ronald McDonald houses serve as a safehaven for out of town families with children in need of medical care at Yale Children’s Hospital\, keeping families together as they seek essential healthcare services and life-changing medical treatment. Volunteering in this way\, is a great way to give back to the community and to spread some holiday cheer..
URL:https://fellowshipplace.org/event/holiday-cards-for-ronald-mcdonald-house/
LOCATION:Clubhouse
CATEGORIES:Special Events
END:VEVENT
BEGIN:VEVENT
DTSTART;TZID=America/New_York:20241220T113000
DTEND;TZID=America/New_York:20241220T140000
DTSTAMP:20260421T041834
CREATED:20241203T175736Z
LAST-MODIFIED:20241203T175736Z
UID:10398-1734694200-1734703200@fellowshipplace.org
SUMMARY:Holiday Celebration
DESCRIPTION:Friday\, December 20th from 11:30am-2pm in the Clubhouse \nJoin us for our Annual Holiday Celebration where we will celebrate both Hannukah and Christmas! The celebration is a great way to celebrate the holiday season with friends and a special visitor! Come and enjoy a delicious meal made by our very own Chef Julio!
URL:https://fellowshipplace.org/event/holiday-celebration-3/
LOCATION:Clubhouse
CATEGORIES:Special Events
END:VEVENT
END:VCALENDAR