BEGIN:VCALENDAR
VERSION:2.0
PRODID:-//Fellowship Place | New Haven CT - ECPv6.11.1//NONSGML v1.0//EN
CALSCALE:GREGORIAN
METHOD:PUBLISH
X-WR-CALNAME:Fellowship Place | New Haven CT
X-ORIGINAL-URL:https://fellowshipplace.org
X-WR-CALDESC:Events for Fellowship Place | New Haven CT
REFRESH-INTERVAL;VALUE=DURATION:PT1H
X-Robots-Tag:noindex
X-PUBLISHED-TTL:PT1H
BEGIN:VTIMEZONE
TZID:America/New_York
BEGIN:DAYLIGHT
TZOFFSETFROM:-0500
TZOFFSETTO:-0400
TZNAME:EDT
DTSTART:20250309T070000
END:DAYLIGHT
BEGIN:STANDARD
TZOFFSETFROM:-0400
TZOFFSETTO:-0500
TZNAME:EST
DTSTART:20251102T060000
END:STANDARD
END:VTIMEZONE
BEGIN:VEVENT
DTSTART;TZID=America/New_York:20250106T080000
DTEND;TZID=America/New_York:20250112T170000
DTSTAMP:20260419T093838
CREATED:20250107T182621Z
LAST-MODIFIED:20250107T182621Z
UID:10464-1736150400-1736701200@fellowshipplace.org
SUMMARY:Weekly Menu January 6th- January 12th
DESCRIPTION: Fellowship Place Weekly Menu \nCurrent weekly menu January 6th – January 12th 2025 \nMeal Reservation Phone Number: 203-401-3067   \n\n\n\nDay\nBreakfast \n  \nMon.-Fri. 9:00 – 9:30 AM\nLunch \n  \nMon.-Fri. 12:00 -12:30 PM\nDinner \n  \nMon.-Fri.:4:00-4:30\n\n\nMonday\n01/06/2025\n  \nContinental breakfast\nCheese raviolis with marinara\, garlic bread and vegetable of the day\n  \nChicken fried rice\n\n\nTuesday \n01/07/2025\n  \nContinental breakfast\nBaked chicken mashed potatoes                                vegetable of the day\nSandwich of the day with chips\n\n\nWednesday \n01/08/2025\n  \nContinental breakfast \n \nRoasted pork loin with stuffing and mixed vegetables\nPasta with marinara sauce and cheese\n\n\nThursday \n01/09/2025\n  \nContinental breakfast\n  \nChicken fried rice\n  \nJamaican beef patties with mixed\n\n\nFriday \n01/10/2025\n  \nContinental breakfast \n \nBaked fish \nRice and  vegetables of the day\n  \nSandwich of the day with chips\n\n\nSaturday\n01/11/2025\n  \nContinental breakfast\n  \nLUNCH\n  \n  \nNO DINNER\n\n\nSunday \n01/12/2025\n  \nContinental breakfast\n  \nLUCH\n  \nNO DINNER
URL:https://fellowshipplace.org/event/weekly-menu-january-6th-january-12th/
LOCATION:Clubhouse
CATEGORIES:Weekly Menu
END:VEVENT
BEGIN:VEVENT
DTSTART;TZID=America/New_York:20250106T110000
DTEND;TZID=America/New_York:20250106T170000
DTSTAMP:20260419T093838
CREATED:20250108T175118Z
LAST-MODIFIED:20250108T175118Z
UID:10467-1736161200-1736182800@fellowshipplace.org
SUMMARY:3 Kings Day Celebration
DESCRIPTION:Monday January 6th @ 11am in McDowell \nJoin us for a festive celebration of Three Kings Day\, a beloved tradition honoring the journey of the three wise men who followed the stars to bring gifts to the newborn king. Experience the magic of this special day as we explore the ways this holiday is celebrated around the world. \nAs part of the celebration\, we’ll be enjoying a delicious Rosca de Reyes- a sweet bread shaped in a ring\, symbolizing the crown of the kings. Whoever finds the white little baby Jesus hidden inside the Rosca will have the honor of doing something for the community in the spirit of giving! For more information\, please see Stephanie!
URL:https://fellowshipplace.org/event/3-kings-day-celebration/
LOCATION:McDowell Center
CATEGORIES:Special Events
END:VEVENT
END:VCALENDAR