BEGIN:VCALENDAR
VERSION:2.0
PRODID:-//Fellowship Place | New Haven CT - ECPv6.11.1//NONSGML v1.0//EN
CALSCALE:GREGORIAN
METHOD:PUBLISH
X-ORIGINAL-URL:https://fellowshipplace.org
X-WR-CALDESC:Events for Fellowship Place | New Haven CT
REFRESH-INTERVAL;VALUE=DURATION:PT1H
X-Robots-Tag:noindex
X-PUBLISHED-TTL:PT1H
BEGIN:VTIMEZONE
TZID:America/New_York
BEGIN:DAYLIGHT
TZOFFSETFROM:-0500
TZOFFSETTO:-0400
TZNAME:EDT
DTSTART:20230312T070000
END:DAYLIGHT
BEGIN:STANDARD
TZOFFSETFROM:-0400
TZOFFSETTO:-0500
TZNAME:EST
DTSTART:20231105T060000
END:STANDARD
BEGIN:DAYLIGHT
TZOFFSETFROM:-0500
TZOFFSETTO:-0400
TZNAME:EDT
DTSTART:20240310T070000
END:DAYLIGHT
BEGIN:STANDARD
TZOFFSETFROM:-0400
TZOFFSETTO:-0500
TZNAME:EST
DTSTART:20241103T060000
END:STANDARD
END:VTIMEZONE
BEGIN:VEVENT
DTSTART;TZID=America/New_York:20240205T080000
DTEND;TZID=America/New_York:20240211T170000
DTSTAMP:20260419T094320
CREATED:20240205T132234Z
LAST-MODIFIED:20240205T132258Z
UID:9526-1707120000-1707670800@fellowshipplace.org
SUMMARY:Weekly Menu February 5th -February 11th
DESCRIPTION:  \nFellowship Place Weekly Menu  \nFebruary 5th –February 11th   \nMeal Reservation Phone Number: 203-401-3067 \n \n\n\nDay\nBreakfast \n  \nMon.-Fri. 9:00 – 9:30 AM\nLunch \n  \nMon.-Fri. 12:00 -12:30 PM\nDinner \n  \nMon.-Fri.:4:00-4:30 PM\n\n\nMonday\n02/05/2024\n  \nContinental breakfast\nSandwich of the day & Soup of the day \n \n  \nPasta with Marinara Sauce\n\n\nTuesday \n02/06/2024\n  \nContinental breakfast\nSloppy Joe on a bun & \nSoup of the day with \nColeslaw\n  \nJamaican Beef Patty & Veggies\n\n\nWednesday \n02/07/2024\n  \nContinental breakfast \n \nBaked Chicken \nSweet Mashed Potatoes with Veggies\n  \nSandwich of the day  with Chips\n\n\nThursday \n02/08/2024\n  \nContinental breakfast\n  \nBeef Stew over Rice\n  \nPizza with Garden Salad\n\n\nFriday \n02/09/2024\n  \nContinental breakfast \n \nBaked Fish with Rice & Veggies \n \nSandwich of the day  with Chips\n\n\nSaturday\n02/10/2024\n  \nContinental breakfast\n  \nLUNCH\n\n\n\nSunday \n02/11/2024\n  \nContinental breakfast\n  \nLUNCH
URL:https://fellowshipplace.org/event/9526/
LOCATION:Clubhouse
CATEGORIES:Weekly Menu
END:VEVENT
BEGIN:VEVENT
DTSTART;TZID=America/New_York:20240129T080000
DTEND;TZID=America/New_York:20240204T170000
DTSTAMP:20260419T094320
CREATED:20240126T214958Z
LAST-MODIFIED:20240126T214958Z
UID:9474-1706515200-1707066000@fellowshipplace.org
SUMMARY:Weekly Menu January 29- February 4
DESCRIPTION:Fellowship Place Weekly Menu \nJanuary 29-February 4 \nMeal Reservation Phone Number: 203-401-3067 \n\n\n\nDay\nBreakfast \n  \nMon.-Fri. 9:00 – 9:30 AM\nLunch \n  \nMon.-Fri. 12:00 -12:30 PM\nDinner \n  \nMon.-Fri.:4:00-4:30\n\n\nMonday\n01/29/2024\n  \nContinental breakfast\nSoup of the day \nSandwich of the day \nL&T with chips\nCheesy Ravioli with marinara sauce \nHot vegetable\n\n\nTuesday \n01/30/2024\n  \nContinental breakfast\n  \nChicken Fried Rice\n  \nPizza & Salad\n\n\nWednesday \n01/31/2024\n  \nContinental breakfast \n \nHamburger Helper with \nMixed vegetables\nSandwich of the day with chips\n\n\nThursday \n02/01/2024\n  \nContinental breakfast\nBaked Chicken\, \nMashed potatoes and               mixed vegetables\nJamaican Beef Patty and veggies\n\n\nFriday \n02/02/2024\n  \nContinental breakfast \n \nBaked Fish \nWith Rice                               vegetable of the dAY\n  \nPizza w garden salad\n\n\nSaturday\n02/03/2024\n  \nContinental breakfast\n  \nLUNCH\n \n\n\nSunday \n02/04/2024\n  \nContinental breakfast\n  \nLUNCH\n 
URL:https://fellowshipplace.org/event/weekly-menu-january-29-february-4/
LOCATION:Clubhouse
CATEGORIES:Weekly Menu
END:VEVENT
BEGIN:VEVENT
DTSTART;TZID=America/New_York:20240122T080000
DTEND;TZID=America/New_York:20240128T170000
DTSTAMP:20260419T094320
CREATED:20240122T132517Z
LAST-MODIFIED:20240122T132517Z
UID:9403-1705910400-1706461200@fellowshipplace.org
SUMMARY:Weekly Menu January 22nd- January 28th
DESCRIPTION:Fellowship Place Weekly Menu \nJanuary 22-January 28 \nMeal Reservation Phone Number: 203-401-3067 \n\n\n\nDay\nBreakfast \n  \nMon.-Fri. 9:00 – 9:30 AM\nLunch \n  \nMon.-Fri. 12:00 -12:30 PM\nDinner \n  \nMon.-Fri.:4:00-4:30\n\n\nMonday\n01/22/2024\n  \nContinental breakfast\nCheese Raviolis with sauce\, Garlic bread and vegetable of the day \n \nBBQ Chicken Sandwich with Coleslaw \n \n\n\nTuesday \n01/23/2024\n  \nContinental breakfast\nMeatloaf with Mashed Potatoes and Vegetable of the day \n \n  \nPizza & salad\n\n\nWednesday \n01/24/2024\n  \nContinental breakfast \n \nBaked Chicken with Rice & Vegetables\nSandwich of the day \nchips\n\n\nThursday \n01/25/2024\n  \nContinental breakfast\nPasta Fagioli Soup\, \nTuna salad sandwich             with chips\nJamaican Beef patties with Vegetables \n \n\n\nFriday \n01/26/2024\n  \nContinental breakfast \n \nBaked Fish with Rice and                              Vegetable of the day\n  \nPizza with garden salad\n\n\nSaturday\n01/27/2024\n  \nContinental breakfast\n  \nLUNCH\n \n\n\nSunday \n01/28/2024\n  \nContinental breakfast\n  \nLUNCH\n 
URL:https://fellowshipplace.org/event/weekly-menu-january-22nd-january-28th/
LOCATION:Clubhouse
CATEGORIES:Weekly Menu
END:VEVENT
BEGIN:VEVENT
DTSTART;TZID=America/New_York:20240115T080000
DTEND;TZID=America/New_York:20240121T170000
DTSTAMP:20260419T094320
CREATED:20240116T160525Z
LAST-MODIFIED:20240116T160525Z
UID:9399-1705305600-1705856400@fellowshipplace.org
SUMMARY:Weekly Menu January 15th-January 21st
DESCRIPTION:Fellowship Place Weekly Menu \nJanuary 15-January 21 \nMeal Reservation Phone Number: 203-401-3067 \n\n\n\nDay\nBreakfast \nMon.-Fri. 9:00 – 9:30 AM\nLunch \nMon.-Fri. 12:00 -12:30 PM\nDinner \nMon.-Fri.:4:00-4:30\n\n\nMonday\n01/15/2024\nContinental breakfast\nLUNCH \nHOLIDAY HOURS 10:00am-1:30pm\nNo Dinner served\n\n\nTuesday \n01/16/2024\nContinental breakfast\nPasta with Meat Sauce with Garlic Bread and Veggies \n \nPizza & salad\n\n\nWednesday \n01/17/2024\nContinental breakfast\nBaked Chicken with Mashed Potatoes and Veggies \n \nPulled Pork Sandwich with \n Coleslaw\n\n\nThursday \n01/18/2024\nContinental breakfast\nTaco Thursday\nSandwich of the day with \nchips\n\n\nFriday \n01/19/2024\nContinental breakfast\nBaked fish with rice and Veggies \n              \nPizza and salad\n\n\nSaturday\n01/20/2024\nContinental breakfast\nLUNCH\n\n\n\nSunday \n01/21/2024\nContinental breakfast\nLUNCH\n\n\n\n\n 
URL:https://fellowshipplace.org/event/weekly-menu-january-15th-january-21st/
LOCATION:Clubhouse
CATEGORIES:Weekly Menu
END:VEVENT
BEGIN:VEVENT
DTSTART;TZID=America/New_York:20240108T080000
DTEND;TZID=America/New_York:20240114T170000
DTSTAMP:20260419T094320
CREATED:20240105T200934Z
LAST-MODIFIED:20240105T200934Z
UID:9359-1704700800-1705251600@fellowshipplace.org
SUMMARY:Weekly Menu January8\, 2024- January 14\, 2024
DESCRIPTION:Fellowship Place Weekly Menu \nJanuary 8-January 14 \nMeal Reservation Phone Number: 203-401-3067 \n\n\n\nDay\nBreakfast \n  \nMon.-Fri. 9:00 – 9:30 AM\nLunch \n  \nMon.-Fri. 12:00 -12:30 PM\nDinner \n  \nMon.-Fri.:4:00-4:30\n\n\nMonday\n01/08/2024\n  \nContinental breakfast\nSandwich of the day \nSoup of the day \nWith chips\nJamaican patties & Garden salad\n\n\nTuesday \n01/09/2024\n  \nContinental breakfast\n  \nCheesy pasta with marinara sauce & vegetables\n  \nBaked Fish & vegetables\n\n\nWednesday \n01/10/2024\n  \nContinental breakfast \n \nSoup of the day \nTuna salad sandwich  with Chips\nPulled pork sandwich \nWith chips\n\n\nThursday \n01/11/2024\n  \nContinental breakfast\nMeatball Sub with \ntomatoes & cucumber salad\n  \nPizza and Salad\n\n\nFriday \n01/12/2024\n  \nContinental breakfast \n \n                                Baked fish \nWith Rice  and vegetable of the day\n  \nSandwich of the day  with Chips\n\n\nSaturday\n01/13/2024\n  \nContinental breakfast\n  \nLUNCH\n \n\n\nSunday \n01/14/2024\n  \nContinental breakfast\n  \nLUNCH\n 
URL:https://fellowshipplace.org/event/weekly-menu-january8-2024-january-14-2024/
LOCATION:Clubhouse
CATEGORIES:Weekly Menu
END:VEVENT
BEGIN:VEVENT
DTSTART;TZID=America/New_York:20240101T080000
DTEND;TZID=America/New_York:20240107T170000
DTSTAMP:20260419T094320
CREATED:20240102T141814Z
LAST-MODIFIED:20240102T141814Z
UID:9356-1704096000-1704646800@fellowshipplace.org
SUMMARY:Weekly Menu January 1-January 7\, 2024
DESCRIPTION:Fellowship Place Weekly Menu \nJanuary 01-January 07\, 2024 \nMeal Reservation Phone Number: 203-401-3067 \n\n\n\nDay\nBreakfast \n  \nMon.-Fri. 9:00 – 9:30 AM\nLunch \n  \nMon.-Fri. 12:00 -12:30 PM\nDinner \n  \nMon.-Fri.:4:00-4:30\n\n\nMonday\n01/01/2024\n  \nContinental breakfast\n  \nHOLIDAY HOURS 10AM- 1:30 PM \n \n \n\n\nTuesday \n01/02/2024\n  \nContinental breakfast\nSoup of the day \nSandwich of the day \nWith chips\n  \nPasta w marinara \nWith Vegetables\n\n\nWednesday \n01/03/2024\n  \nContinental breakfast \n \n      Baked chicken with \nRice and  vegetable of the day\n  \nJamaican beef patties with vegetable of the day\n\n\nThursday \n01/04/2024\n  \nContinental breakfast\nRoasted pork loin \nSweet mashed potatoes \nvegetable of the day\nBBQ chicken sandwich \nWith chips \n \n\n\nFriday \n01/05/2024\n  \nContinental breakfast \n \nSeafood salad sandwich \nlettuce & tomatoes \ncream of broccoli soup\n  \nPizza & garden salad\n\n\nSaturday\n01/06/2024\n  \nContinental breakfast\n  \nLUNCH\n \n\n\nSunday \n01/07/2024\n  \nContinental breakfast\n  \nLUNCH\n 
URL:https://fellowshipplace.org/event/weekly-menu-january-1-january-7-2024/
LOCATION:Clubhouse
CATEGORIES:Weekly Menu
END:VEVENT
BEGIN:VEVENT
DTSTART;VALUE=DATE:20231225
DTEND;VALUE=DATE:20240101
DTSTAMP:20260419T094320
CREATED:20231222T162636Z
LAST-MODIFIED:20231222T162636Z
UID:9352-1703462400-1704067199@fellowshipplace.org
SUMMARY:Weekly Menu December 25- December 31
DESCRIPTION:Fellowship Place Weekly Menu \nDecember 25-December 31 \nMeal Reservation Phone Number: 203-401-3067 \n\n\n\nDay\nBreakfast \n  \nMon.-Fri. 9:00 – 9:30 AM\nLunch \n  \nMon.-Fri. 12:00 -12:30 PM\nDinner \n  \nMon.-Fri.:4:00-4:30 PM\n\n\nMonday\n12/25/2023\n  \nContinental breakfast\n  \nHOLIDAY HOURS 10AM-1:30PM \nLUNCH SERVED \n\n\n\nNO DINNER \n\n\n\nTuesday \n12/26/2023\n  \nContinental breakfast\n\nSloppy joe on a bun \nSoup of the day \nColeslaw \n\n  \nJamaican Beef Patties & Veggies \n\n\n\nWednesday \n12/27/2023\n  \nContinental breakfast \n \n\n      Baked Chicken \nMashed potatoes & vegetables \n\n  \nPizza & Garden Salad \n\n\n\nThursday \n12/28/2023\n  \nContinental breakfast\n  \nBeef Stew over Rice \n\n  \nPasta with Marinara Sauce & Veggies \n\n\n\n\nFriday \n12/29/2023\n  \nContinental breakfast \n \n  \nChicken Fried Rice \n\n\n\n    Coldcut Sandwich with Chips \n\n\n\nSaturday\n12/30/2023\n  \nContinental breakfast\n  \n    LUNCH \n\n \n\n\nSunday \n12/31/2023\n  \nContinental breakfast\n  \n     LUNCH \n\n \n\n\n\n\n\n\n \n \n \n 
URL:https://fellowshipplace.org/event/weekly-menu-december-25-december-31/
CATEGORIES:Weekly Menu
END:VEVENT
BEGIN:VEVENT
DTSTART;TZID=America/New_York:20231218T080000
DTEND;TZID=America/New_York:20231224T170000
DTSTAMP:20260419T094320
CREATED:20231215T204437Z
LAST-MODIFIED:20231215T204437Z
UID:9304-1702886400-1703437200@fellowshipplace.org
SUMMARY:Weekly Menu 12/15/23-12/24/23
DESCRIPTION:Fellowship Place Weekly Menu \nDec. 18– Dec. 24 \nMeal Reservation Phone Number: 203-401-3067 \n\n\n\nDay\nBreakfast \nMon.-Fri.: 9:00 – 9:30 AM \n \nLunch \nMon.-Fri.: 12:00 pm\nDinner \nMon.-Fri.:4:00-4:30\n\n\nMonday\n12/18/2023\n  \nContinental breakfast \n \n  \nCheesy Pasta with Marinara Sauce and Veggies\n  \nSandwich of the Day with Chips\n\n\nTuesday \n12/19/2023\n  \nContinental breakfast \n \n  \nSloppy Joe on a bun with Coleslaw\n  \nPizza and Salad\n\n\nWednesday \n12/20/2023\n  \nContinental breakfast\n  \nSoup of the Day \nSandwich of the Day\n  \nPasta Casserole with Veggies\n\n\nThursday \n12/21/2023\n  \nContinental breakfast\n  \nSouthern Christmas Luncheon\n  \nPizza and Salad\n\n\nFriday \n12/22/2023\n  \nContinental breakfast \n \n  \nBaked Fish with Rice and Veggies\n  \nSandwich of the Day with Chips\n\n\nSaturday\n12/23/2023\n  \n \n  \nlunch\n \n\n\nSunday \n12/24/2023\n \n  \nlunch\n 
URL:https://fellowshipplace.org/event/weekly-menu-12-15-23-12-24-23/
CATEGORIES:Weekly Menu
END:VEVENT
BEGIN:VEVENT
DTSTART;TZID=America/New_York:20231211T080000
DTEND;TZID=America/New_York:20231217T170000
DTSTAMP:20260419T094320
CREATED:20231208T202913Z
LAST-MODIFIED:20231213T143206Z
UID:9281-1702281600-1702832400@fellowshipplace.org
SUMMARY:Weekly Menu December 11-December 17
DESCRIPTION:Fellowship Place Weekly Menu \nDecember 11-December 17 \nMeal Reservation Phone Number: 203-401-3067 \n\n\n\nDay\nBreakfast \n  \nMon.-Fri. 9:00 – 9:30 AM\nLunch \n  \nMon.-Fri. 12:00 -12:30 PM\nDinner \n  \nMon.-Fri.:4:00-4:30\n\n\nMonday\n12/11/2023\n  \nContinental breakfast\n  \nTuna Salad \nChips \nSoup of the day \n \n  \nPasta with marinara sauce & mixed vegetables \n \n\n\nTuesday \n12/12/2023\n  \nContinental breakfast\n  \nStuffed shells with sauce & mixed vegetables\n  \nJamaican beef patties & veggies\n\n\nWednesday \n12/13/2023\n  \nContinental breakfast \n \n  \nChili stew over rice\n  \nAGENCY CLOSING AT 12:30PM- NO DINNER\n\n\nThursday \n12/14/2023\n  \nContinental breakfast\n  \nHam & cheese sandwich \nwith chips\n  \nPizza & Salad\n\n\nFriday \n12/15/2023\n  \nContinental breakfast \n \n  \nBaked Chicken\, \nMashed potatoes & veggie of the day\n  \nCold cut sandwich with lettuce and Tomato & Chips\n\n\nSaturday\n12/16/2023\n  \nContinental breakfast\n  \nLUNCH\n\n\n\nSunday \n12/17/2023\n  \nContinental breakfast\n  \nLUNCH
URL:https://fellowshipplace.org/event/weekly-menu-december-11-december-17/
LOCATION:Clubhouse
CATEGORIES:Weekly Menu
END:VEVENT
BEGIN:VEVENT
DTSTART;TZID=America/New_York:20231204T080000
DTEND;TZID=America/New_York:20231210T170000
DTSTAMP:20260419T094320
CREATED:20231006T132537Z
LAST-MODIFIED:20231205T134006Z
UID:9009-1701676800-1702227600@fellowshipplace.org
SUMMARY:Weekly Menu Dec. 4 - Dec. 10
DESCRIPTION:Fellowship Place Weekly Menu \nDec. 4 – Dec. 10 \nMeal Reservation Phone Number: 203-401-3067\n\n\nDay\nBreakfast \nMon. – Fri.  9:00 – 9:30 AM \n \nLunch \nMon. – Fri.  12:00 – 12:30 PM \n \nDinner \nMon.-Fri. 4:00-4:30 PM\n\n\nMonday\n12/04/2023\nContinental breakfast\nStuffed shells \nGarlic bread \nVeggie of the day\nJamaican beef patties \nmixed veggies\n\n\nTuesday \n12/05/2023\nContinental breakfast \n \nSandwich of the day \nChips \nSoup\nPasta and Garlic Bread \n \n\n\nWednesday \n12/06/2023\nContinental breakfast\nTaco Wednesday\nMac & Cheese \nveggies\n\n\nThursday \n12/07/2023\nContinental breakfast\nBaked chicken \nMashed potatoes \nMixed veggies\nPizza and garden salad\n\n\nFriday \n12/08/2023\nContinental breakfast \n \nBaked fish \nRice \nVeggie of the day \n \nBBQ chicken sandwich \nColeslaw & chips\n\n\nSaturday\n12/09/2023\nContinental breakfast\nLunch\n\n\n\nSunday \n12/10/2023\nContinental breakfast\n\nLunch
URL:https://fellowshipplace.org/event/weekly-menu-oct-9th-oct-15th/
CATEGORIES:Weekly Menu
END:VEVENT
END:VCALENDAR